BEGIN:VCALENDAR
VERSION:2.0
PRODID:-//Rugby Illinois - ECPv6.15.20//NONSGML v1.0//EN
CALSCALE:GREGORIAN
METHOD:PUBLISH
X-ORIGINAL-URL:https://rugbyillinois.org
X-WR-CALDESC:Events for Rugby Illinois
REFRESH-INTERVAL;VALUE=DURATION:PT1H
X-Robots-Tag:noindex
X-PUBLISHED-TTL:PT1H
BEGIN:VTIMEZONE
TZID:America/Chicago
BEGIN:DAYLIGHT
TZOFFSETFROM:-0600
TZOFFSETTO:-0500
TZNAME:CDT
DTSTART:20230312T080000
END:DAYLIGHT
BEGIN:STANDARD
TZOFFSETFROM:-0500
TZOFFSETTO:-0600
TZNAME:CST
DTSTART:20231105T070000
END:STANDARD
BEGIN:DAYLIGHT
TZOFFSETFROM:-0600
TZOFFSETTO:-0500
TZNAME:CDT
DTSTART:20240310T080000
END:DAYLIGHT
BEGIN:STANDARD
TZOFFSETFROM:-0500
TZOFFSETTO:-0600
TZNAME:CST
DTSTART:20241103T070000
END:STANDARD
BEGIN:DAYLIGHT
TZOFFSETFROM:-0600
TZOFFSETTO:-0500
TZNAME:CDT
DTSTART:20250309T080000
END:DAYLIGHT
BEGIN:STANDARD
TZOFFSETFROM:-0500
TZOFFSETTO:-0600
TZNAME:CST
DTSTART:20251102T070000
END:STANDARD
END:VTIMEZONE
BEGIN:VEVENT
DTSTART;TZID=America/Chicago:20240720T090000
DTEND;TZID=America/Chicago:20240720T130000
DTSTAMP:20260423T064200
CREATED:20240515T020303Z
LAST-MODIFIED:20240619T185212Z
UID:10000055-1721466000-1721480400@rugbyillinois.org
SUMMARY:2024 Summer AGM
DESCRIPTION:
URL:https://rugbyillinois.org/event/2024-summer-agm/
LOCATION:The Irish American Heritage Center\, 4626 N. Knox Ave\, Chicago\, IL\, 60630\, United States
CATEGORIES:Meeting
ATTACH;FMTTYPE=image/png:https://rugbyillinois.org/wp-content/uploads/2023/06/Feature-Image-Website.png
END:VEVENT
END:VCALENDAR