BEGIN:VCALENDAR
VERSION:2.0
PRODID:-//Rugby Illinois - ECPv6.15.20//NONSGML v1.0//EN
CALSCALE:GREGORIAN
METHOD:PUBLISH
X-ORIGINAL-URL:https://rugbyillinois.org
X-WR-CALDESC:Events for Rugby Illinois
REFRESH-INTERVAL;VALUE=DURATION:PT1H
X-Robots-Tag:noindex
X-PUBLISHED-TTL:PT1H
BEGIN:VTIMEZONE
TZID:America/Chicago
BEGIN:DAYLIGHT
TZOFFSETFROM:-0600
TZOFFSETTO:-0500
TZNAME:CDT
DTSTART:20240310T080000
END:DAYLIGHT
BEGIN:STANDARD
TZOFFSETFROM:-0500
TZOFFSETTO:-0600
TZNAME:CST
DTSTART:20241103T070000
END:STANDARD
BEGIN:DAYLIGHT
TZOFFSETFROM:-0600
TZOFFSETTO:-0500
TZNAME:CDT
DTSTART:20250309T080000
END:DAYLIGHT
BEGIN:STANDARD
TZOFFSETFROM:-0500
TZOFFSETTO:-0600
TZNAME:CST
DTSTART:20251102T070000
END:STANDARD
BEGIN:DAYLIGHT
TZOFFSETFROM:-0600
TZOFFSETTO:-0500
TZNAME:CDT
DTSTART:20260308T080000
END:DAYLIGHT
BEGIN:STANDARD
TZOFFSETFROM:-0500
TZOFFSETTO:-0600
TZNAME:CST
DTSTART:20261101T070000
END:STANDARD
END:VTIMEZONE
BEGIN:VEVENT
DTSTART;TZID=America/Chicago:20250209T183000
DTEND;TZID=America/Chicago:20250209T203000
DTSTAMP:20260420T092117
CREATED:20250121T034335Z
LAST-MODIFIED:20250126T183607Z
UID:10000065-1739125800-1739133000@rugbyillinois.org
SUMMARY:Tornados Skills Camp #1
DESCRIPTION:To get things started this will be the 1st of 3 Rugby skills camps\, join us at Naperville Yards there will be an emphasis on fundamentals at a higher level of play. Grading players on their skill level \nYou need to be registered with a club and if there are any questions\, please contact Kyle and Sal. \n 
URL:https://rugbyillinois.org/event/tornados-skills-camp/
LOCATION:Naperville Yards\, Naperville Yards\, 1607 Legacy Cir\, Naperville\, IL\, 60563\, United States
CATEGORIES:Clinic,Tornados
END:VEVENT
END:VCALENDAR