BEGIN:VCALENDAR
VERSION:2.0
PRODID:-//Rugby Illinois - ECPv6.15.20//NONSGML v1.0//EN
CALSCALE:GREGORIAN
METHOD:PUBLISH
X-WR-CALNAME:Rugby Illinois
X-ORIGINAL-URL:https://rugbyillinois.org
X-WR-CALDESC:Events for Rugby Illinois
REFRESH-INTERVAL;VALUE=DURATION:PT1H
X-Robots-Tag:noindex
X-PUBLISHED-TTL:PT1H
BEGIN:VTIMEZONE
TZID:America/Chicago
BEGIN:DAYLIGHT
TZOFFSETFROM:-0600
TZOFFSETTO:-0500
TZNAME:CDT
DTSTART:20230312T080000
END:DAYLIGHT
BEGIN:STANDARD
TZOFFSETFROM:-0500
TZOFFSETTO:-0600
TZNAME:CST
DTSTART:20231105T070000
END:STANDARD
BEGIN:DAYLIGHT
TZOFFSETFROM:-0600
TZOFFSETTO:-0500
TZNAME:CDT
DTSTART:20240310T080000
END:DAYLIGHT
BEGIN:STANDARD
TZOFFSETFROM:-0500
TZOFFSETTO:-0600
TZNAME:CST
DTSTART:20241103T070000
END:STANDARD
BEGIN:DAYLIGHT
TZOFFSETFROM:-0600
TZOFFSETTO:-0500
TZNAME:CDT
DTSTART:20250309T080000
END:DAYLIGHT
BEGIN:STANDARD
TZOFFSETFROM:-0500
TZOFFSETTO:-0600
TZNAME:CST
DTSTART:20251102T070000
END:STANDARD
END:VTIMEZONE
BEGIN:VEVENT
DTSTART;TZID=America/Chicago:20240610T180000
DTEND;TZID=America/Chicago:20240610T200000
DTSTAMP:20260425T080326
CREATED:20240607T193003Z
LAST-MODIFIED:20240607T193447Z
UID:10000056-1718042400-1718049600@rugbyillinois.org
SUMMARY:HS Boys Tornados Training
DESCRIPTION:Reach out to Kevn Lydon (kevinwlydon@gmail.com) with any questions.
URL:https://rugbyillinois.org/event/hs-boys-tornados-training/
LOCATION:Taft High School\, 6530 W Bryn Mawr Ave\, Chicago\, 60631\, United States
CATEGORIES:Tornados
ATTACH;FMTTYPE=image/png:https://rugbyillinois.org/wp-content/uploads/2024/06/featured-image-3.png
END:VEVENT
BEGIN:VEVENT
DTSTART;TZID=America/Chicago:20240612T180000
DTEND;TZID=America/Chicago:20240612T200000
DTSTAMP:20260425T080326
CREATED:20240607T193329Z
LAST-MODIFIED:20240607T193417Z
UID:10000057-1718215200-1718222400@rugbyillinois.org
SUMMARY:HS Boys Tornados Training
DESCRIPTION:Reach out to Kevn Lydon (kevinwlydon@gmail.com) with any questions.
URL:https://rugbyillinois.org/event/hs-boys-tornados-training-2/
LOCATION:Lions for Hope Sports Complex\, 2637 W Polk St\, Chicago\, 60612\, United States
CATEGORIES:Tornados
ATTACH;FMTTYPE=image/png:https://rugbyillinois.org/wp-content/uploads/2024/06/featured-image-3.png
END:VEVENT
BEGIN:VEVENT
DTSTART;TZID=America/Chicago:20240623T120000
DTEND;TZID=America/Chicago:20240623T153000
DTSTAMP:20260425T080326
CREATED:20240607T193715Z
LAST-MODIFIED:20240607T193716Z
UID:10000058-1719144000-1719156600@rugbyillinois.org
SUMMARY:Tornados: Cody Cup
DESCRIPTION:2pm WI u19 vs IL u19 (22.5 min halves)\n1pm WI u17 vs IL u17 (30 min halves)\n12:15 IL u19 vs IA u19 (22.5 min halves)\n1:15 WI u15 vs WI u15 (30 min halves)\n2:30 WI u19 vs WI u19 (22.5 min halves) 
URL:https://rugbyillinois.org/event/tornados-cody-cup/
LOCATION:501 E County Rd Y\, Oshkosh\, WI 54901\, 501 E County Rd Y\, Oshkosh\, WI\, 54901\, United States
CATEGORIES:Tornados
END:VEVENT
BEGIN:VEVENT
DTSTART;TZID=America/Chicago:20240629T130000
DTEND;TZID=America/Chicago:20240629T170000
DTSTAMP:20260425T080326
CREATED:20240609T212208Z
LAST-MODIFIED:20240609T212527Z
UID:10000059-1719666000-1719680400@rugbyillinois.org
SUMMARY:RIL Summer 7s - Dawg Days of Summer
DESCRIPTION:Visit https://rugbyillinois.org/summer-7s/
URL:https://rugbyillinois.org/event/ril-summer-7s-dawg-days-of-summer/
LOCATION:SeatGeek Stadium\, 7000 S Harlem Ave\, Bridgeview\, IL\, 60455\, United States
CATEGORIES:Tournament
END:VEVENT
END:VCALENDAR